BEGIN:VCALENDAR
VERSION:2.0
PRODID:-//wp-events-plugin.com//6.4.10.2//EN
TZID:Europe/Vienna
X-WR-TIMEZONE:Europe/Vienna
BEGIN:VEVENT
UID:1-582@lako.at
DTSTART;TZID=Europe/Vienna:20220226T090000
DTEND;TZID=Europe/Vienna:20220226T170000
DTSTAMP:20220222T072822Z
URL:https://lako.at/events/wesensgemaesse-bienenhaltung-nach-demeter-2/
SUMMARY:Wesensgemäße Bienenhaltung nach Demeter
DESCRIPTION:\n 	Die Honigbiene im Jahreskreislauf\n 	Der “Bien” als Org
 anismus\n 	Philosophie der wesensgemäßen Bienenhaltung\n 	Geeignete Beut
 ensysteme im Vergleich (Einraumbeute\, Jumbo-Magazin\, Bienenkiste\, Warr
 é\, Top bar hive u.a.)\n 	Materialien und der richtige Aufstellplatz\n 	D
 er Weg zur zertifizierten Demeter-Imkerei\n
CATEGORIES:Kurs
LOCATION:LFS Krems\, Wienerstraße 101\, Krems\, Niederösterreich\, 3500\,
  Österreich
X-APPLE-STRUCTURED-LOCATION;VALUE=URI;X-ADDRESS=Wienerstraße 101\, Krems\,
  Niederösterreich\, 3500\, Österreich;X-APPLE-RADIUS=100;X-TITLE=LFS Kre
 ms:geo:0,0
END:VEVENT
BEGIN:VTIMEZONE
TZID:Europe/Vienna
X-LIC-LOCATION:Europe/Vienna
BEGIN:STANDARD
DTSTART:20211031T020000
TZOFFSETFROM:+0200
TZOFFSETTO:+0100
TZNAME:CET
END:STANDARD
END:VTIMEZONE
END:VCALENDAR