BEGIN:VCALENDAR
VERSION:2.0
PRODID:-//wp-events-plugin.com//6.4.10.2//EN
TZID:Europe/Vienna
X-WR-TIMEZONE:Europe/Vienna
BEGIN:VEVENT
UID:1-1074@lako.at
DTSTART;TZID=Europe/Vienna:20221207T180000
DTEND;TZID=Europe/Vienna:20221208T200000
DTSTAMP:20220823T033559Z
URL:https://lako.at/events/was-fehlt-meinem-bienenvolk-3/
SUMMARY:Was fehlt meinem Bienenvolk?
DESCRIPTION:1.Teil-Termin: Mi. 07.12.2022 von 18.00-20.00\n\n2.Teil-Termin
 : Do. 08.12.2022 von 18.00-20.00\n\nJeder Imker &amp\; jede Imkerin stellt
  sich irgendwann die Frage\, habe ich etwas falsch gemacht oder was fehlt 
 meinem Bienenvolk? Ganz nach dem Motto: "Es ist noch kein Meister vom Himm
 el gefallen"\, klären wir die gängigsten Fragen rund um die Bienengesund
 heit.\n\n 	Vermeidbare Auffälligkeiten erkennen &amp\; beseitigen (Zornig
 e Bienen\, geschwächte Völker\, die Weiselprobe).\n 	Was sind tatsächli
 che Krankheitsbilder &amp\; wann besteht akuter Handlungsbedarf (Milbendru
 ck\, Faulbrut\, Vergiftungsverdacht).\n
CATEGORIES:Kurs
LOCATION:Online-Seminarraum\, \, Österreich
X-APPLE-STRUCTURED-LOCATION;VALUE=URI;X-ADDRESS=\, Österreich;X-APPLE-RADI
 US=100;X-TITLE=Online-Seminarraum:geo:0,0
END:VEVENT
BEGIN:VTIMEZONE
TZID:Europe/Vienna
X-LIC-LOCATION:Europe/Vienna
BEGIN:STANDARD
DTSTART:20221030T020000
TZOFFSETFROM:+0200
TZOFFSETTO:+0100
TZNAME:CET
END:STANDARD
END:VTIMEZONE
END:VCALENDAR