BEGIN:VCALENDAR
VERSION:2.0
PRODID:-//wp-events-plugin.com//6.4.10.2//EN
TZID:Europe/Vienna
X-WR-TIMEZONE:Europe/Vienna
BEGIN:VEVENT
UID:1-1592@lako.at
DTSTART;TZID=Europe/Vienna:20250516T090000
DTEND;TZID=Europe/Vienna:20250516T170000
DTSTAMP:20240725T100758Z
URL:https://lako.at/events/waldtrachtkurs-5/
SUMMARY:Waldtrachtkurs
DESCRIPTION:Erkennen und Auffinden aller wichtigen Honigtauerzeuger in Öst
 erreich auf Fichte\, Tanne\, Lärche\, Kiefer (Föhre und Latsche)\, Ahorn
 \, Eiche und Linde in Theorie und Praxis (Waldbegehung).\nWie baut sich ei
 ne Population an Honigtauspendern auf\, vom Winterei oder Larve\, bis hin 
 zur Waldtracht.\n\nVerschiedene Möglichkeiten zur Einschätzung einer Wal
 dtracht anhand der Populationsdichte der Honigtauerzeuger.
CATEGORIES:Kurs
LOCATION:LFS Warth\, Aichhof 1\, Warth\, Niederösterreich\, 2831\, Österr
 eich
X-APPLE-STRUCTURED-LOCATION;VALUE=URI;X-ADDRESS=Aichhof 1\, Warth\, Nieder
 österreich\, 2831\, Österreich;X-APPLE-RADIUS=100;X-TITLE=LFS Warth:geo:
 0,0
END:VEVENT
BEGIN:VTIMEZONE
TZID:Europe/Vienna
X-LIC-LOCATION:Europe/Vienna
BEGIN:DAYLIGHT
DTSTART:20250330T030000
TZOFFSETFROM:+0100
TZOFFSETTO:+0200
TZNAME:CEST
END:DAYLIGHT
END:VTIMEZONE
END:VCALENDAR