BEGIN:VCALENDAR
VERSION:2.0
PRODID:-//wp-events-plugin.com//6.4.10.2//EN
TZID:Europe/Vienna
X-WR-TIMEZONE:Europe/Vienna
BEGIN:VEVENT
UID:1-1086@lako.at
DTSTART;TZID=Europe/Vienna:20221201T090000
DTEND;TZID=Europe/Vienna:20221201T130000
DTSTAMP:20220823T115822Z
URL:https://lako.at/events/rechtliche-aspekte-der-kosmetikherstellung/
SUMMARY:Rechtliche Aspekte der Kosmetikherstellung
DESCRIPTION:\n 	Kosmetikverordnung inkl. Notifizierung und "Gute Herstellun
 gspraxis"\n 	 Werbeaussagen und Pflichtkennzeichnung\n 	Sicherheitsbewert
 ung und Sammelsicherheitsbewertung\n 	Regeln zur Abgrenzung und Naturkosme
 tik\n\n&nbsp\;
CATEGORIES:Kurs
LOCATION:LFS Warth\, Aichhof 1\, Warth\, Niederösterreich\, 2831\, Österr
 eich
X-APPLE-STRUCTURED-LOCATION;VALUE=URI;X-ADDRESS=Aichhof 1\, Warth\, Nieder
 österreich\, 2831\, Österreich;X-APPLE-RADIUS=100;X-TITLE=LFS Warth:geo:
 0,0
END:VEVENT
BEGIN:VTIMEZONE
TZID:Europe/Vienna
X-LIC-LOCATION:Europe/Vienna
BEGIN:STANDARD
DTSTART:20221030T020000
TZOFFSETFROM:+0200
TZOFFSETTO:+0100
TZNAME:CET
END:STANDARD
END:VTIMEZONE
END:VCALENDAR