BEGIN:VCALENDAR
VERSION:2.0
PRODID:-//wp-events-plugin.com//6.4.10.2//EN
TZID:Europe/Vienna
X-WR-TIMEZONE:Europe/Vienna
BEGIN:VEVENT
UID:1-1266@lako.at
DTSTART;TZID=Europe/Vienna:20240803T090000
DTEND;TZID=Europe/Vienna:20240803T170000
DTSTAMP:20240705T065240Z
URL:https://lako.at/events/praxis-56-varroabehandlung-herbstrevision-3/
SUMMARY:Praxis 5+6 - Varroabehandlung + Herbstrevision
DESCRIPTION:ACHTUNG: Kurstreffpunkt ist in 2003 Leitzersdorf\, Johannesplat
 z 1 (vor dem Gemeindeamt)\n\nJedes Behandlungsverfahren gegen die Varroami
 lbe birgt Risiken und sollte nicht leichtfertig durchgeführt werden.\n\nD
 ie stetige Kontrolle der Milbenbelastung\, die ganzjährigen Einträge in 
 die Stockkarten sowie Durchführung und Aufzeichnung der Varroabehandlung 
 verschaffen nicht nur einen klaren Überblick\, sondern helfen bei der Ers
 tellung eines Behandlungskonzeptes.\n\nDer richtige Einsatz von organische
 n Säuren zur Varroabehandlung wird gezeigt und die Vorteile dieser Method
 e erklärt. \n\nBei der Herbstrevision sollten die letzten intensiven Ei
 ngriffe erfolgt sein\, bevor die Bienen in den Herbst entlassen werden.\n\
 n 	Ist ausreichend Winterfutter vorhanden und ist der Standort ideal für 
 die Überwinterung?\n 	Gibt es unter den Völkern Schwächlinge\, Räubere
 i und welche Maßnahmen treffe ich zur Wintersicherung vor Nagern und Vög
 eln?\n 	Besteht akuter Handlungsbedarf hinsichtlich Varroa?\n 	Planung der
  Restentmilbung in der brutfreien Zeit.\n 	Sicheres Lagern von Wachs\, Wab
 en und Co.\n
CATEGORIES:Kurs
LOCATION:LFS Hollabrunn\, Sonnleitenweg 2\, Hollabrunn\, Niederösterreich\
 , 2020\, Österreich
X-APPLE-STRUCTURED-LOCATION;VALUE=URI;X-ADDRESS=Sonnleitenweg 2\, Hollabrun
 n\, Niederösterreich\, 2020\, Österreich;X-APPLE-RADIUS=100;X-TITLE=LFS 
 Hollabrunn:geo:0,0
END:VEVENT
BEGIN:VTIMEZONE
TZID:Europe/Vienna
X-LIC-LOCATION:Europe/Vienna
BEGIN:DAYLIGHT
DTSTART:20240331T030000
TZOFFSETFROM:+0100
TZOFFSETTO:+0200
TZNAME:CEST
END:DAYLIGHT
END:VTIMEZONE
END:VCALENDAR