BEGIN:VCALENDAR
VERSION:2.0
PRODID:-//wp-events-plugin.com//6.4.10.2//EN
TZID:Europe/Vienna
X-WR-TIMEZONE:Europe/Vienna
BEGIN:VEVENT
UID:1-1271@lako.at
DTSTART;TZID=Europe/Vienna:20240720T140000
DTEND;TZID=Europe/Vienna:20240720T180000
DTSTAMP:20230801T081035Z
URL:https://lako.at/events/praxis-5-varroabehandlung-37/
SUMMARY:Praxis 5 - Varroabehandlung
DESCRIPTION:&nbsp\;\n\nJedes Behandlungsverfahren gegen die Varroamilbe bir
 gt Risiken und sollte nicht leichtfertig durchgeführt werden!\n\nDie stet
 ige Kontrolle der Milbenbelastung\, die ganzjährigen Einträge in die Sto
 ckkarten sowie Durchführung &amp\; Aufzeichnung der Varroabehandlung vers
 chaffen nicht nur einen klaren Überblick\, sondern helfen bei der Erstell
 ung eines Behandlungskonzeptes.\n\nDer richtige Einsatz von organischen S
 äuren zur Varroabehandlung wird gezeigt und die Vorteile dieser Methode e
 rklärt.
CATEGORIES:Kurs
LOCATION:LFS Krems\, Wienerstraße 101\, Krems\, Niederösterreich\, 3500\,
  Österreich
X-APPLE-STRUCTURED-LOCATION;VALUE=URI;X-ADDRESS=Wienerstraße 101\, Krems\,
  Niederösterreich\, 3500\, Österreich;X-APPLE-RADIUS=100;X-TITLE=LFS Kre
 ms:geo:0,0
END:VEVENT
BEGIN:VTIMEZONE
TZID:Europe/Vienna
X-LIC-LOCATION:Europe/Vienna
BEGIN:DAYLIGHT
DTSTART:20240331T030000
TZOFFSETFROM:+0100
TZOFFSETTO:+0200
TZNAME:CEST
END:DAYLIGHT
END:VTIMEZONE
END:VCALENDAR