BEGIN:VCALENDAR
VERSION:2.0
PRODID:-//wp-events-plugin.com//6.4.10.2//EN
TZID:Europe/Vienna
X-WR-TIMEZONE:Europe/Vienna
BEGIN:VEVENT
UID:1-1022@lako.at
DTSTART;TZID=Europe/Vienna:20230708T090000
DTEND;TZID=Europe/Vienna:20230708T130000
DTSTAMP:20220822T120346Z
URL:https://lako.at/events/praxis-5-varroabehandlung-29/
SUMMARY:Praxis 5 - Varroabehandlung
DESCRIPTION:Dieser Kurs findet bei der Imkerei Fuchs in Orth/Donau statt.\n
 \nJedes Behandlungsverfahren gegen die Varroamilbe birgt Risiken und sollt
 e vom Imker/von der Imkerin nicht leichtfertig durchgeführt werden!\n\nDi
 e stetige Kontrolle der Milbenbelastung\, die ganzjährigen Einträge in d
 ie Stockkarten sowie Durchführung &amp\; Aufzeichnung der Varroabehandlu
 ng\, verschaffen nicht nur einen klaren Überblick\, sondern helfen bei de
 r Erstellung eines Behandlungskonzeptes.\n\nWir zeigen den Einsatz von org
 anischen Säuren und erklären ihren Nutzen bei der richtigen Anwendung.
CATEGORIES:Kurs
LOCATION:LFS Obersiebenbrunn\, Feldhofstraße 6\, Obersiebenbrunn\, Nieder
 österreich\, 2283\, Österreich
X-APPLE-STRUCTURED-LOCATION;VALUE=URI;X-ADDRESS=Feldhofstraße 6\, Obersieb
 enbrunn\, Niederösterreich\, 2283\, Österreich;X-APPLE-RADIUS=100;X-TITL
 E=LFS Obersiebenbrunn:geo:0,0
END:VEVENT
BEGIN:VTIMEZONE
TZID:Europe/Vienna
X-LIC-LOCATION:Europe/Vienna
BEGIN:DAYLIGHT
DTSTART:20230326T030000
TZOFFSETFROM:+0100
TZOFFSETTO:+0200
TZNAME:CEST
END:DAYLIGHT
END:VTIMEZONE
END:VCALENDAR