BEGIN:VCALENDAR
VERSION:2.0
PRODID:-//wp-events-plugin.com//6.4.10.2//EN
TZID:Europe/Vienna
X-WR-TIMEZONE:Europe/Vienna
BEGIN:VEVENT
UID:1-1282@lako.at
DTSTART;TZID=Europe/Vienna:20240504T090000
DTEND;TZID=Europe/Vienna:20240504T170000
DTSTAMP:20230801T091635Z
URL:https://lako.at/events/praxis-34-schwarmverhinderung-honigernte-18/
SUMMARY:Praxis 3+4 - Schwarmverhinderung + Honigernte
DESCRIPTION:Dieser Kurs findet bei der Imkerei Fuchs in Orth/Donau statt.\n
 \nDie Teilung eines Bienenvolkes ist ein natürlicher Vorgang – aber ist
  dies immer gewünscht? Bei der Schwarmverhinderung zeigen wir vorbeugen
 de Maßnahmen\, um ein Abschwärmen des Volkes zu verhindern und verschied
 ene Arten\, Jungvölker zu bilden.\n\nDen Bienen Honig zu entnehmen\, beda
 rf einiger Kenntnisse. Wann ist der Honig in den Waben erntereif und wie g
 ehe ich bei der Honigernte vor? Bei dieser Praxis zeigen wir auch gängi
 ge Methoden von Schleuderung\, Klärung und Abfüllung.\n\n&nbsp\;\n\nTipp
 s für weiterführende Fachkurse\n\n 	“Honigqualität &amp\; Sensorik”
  – heimische Sortenhonige kennen und beurteilen lernen\n 	“Hygienesch
 ulung für die Imkerei” – Hygieneanforderungen in der Hobbyimkerei\n
CATEGORIES:Kurs
LOCATION:LFS Obersiebenbrunn\, Feldhofstraße 6\, Obersiebenbrunn\, Nieder
 österreich\, 2283\, Österreich
X-APPLE-STRUCTURED-LOCATION;VALUE=URI;X-ADDRESS=Feldhofstraße 6\, Obersieb
 enbrunn\, Niederösterreich\, 2283\, Österreich;X-APPLE-RADIUS=100;X-TITL
 E=LFS Obersiebenbrunn:geo:0,0
END:VEVENT
BEGIN:VTIMEZONE
TZID:Europe/Vienna
X-LIC-LOCATION:Europe/Vienna
BEGIN:DAYLIGHT
DTSTART:20240331T030000
TZOFFSETFROM:+0100
TZOFFSETTO:+0200
TZNAME:CEST
END:DAYLIGHT
END:VTIMEZONE
END:VCALENDAR