BEGIN:VCALENDAR
VERSION:2.0
PRODID:-//wp-events-plugin.com//6.4.10.2//EN
TZID:Europe/Vienna
X-WR-TIMEZONE:Europe/Vienna
BEGIN:VEVENT
UID:1-662@lako.at
DTSTART;TZID=Europe/Vienna:20220416T140000
DTEND;TZID=Europe/Vienna:20220416T180000
DTSTAMP:20210824T094257Z
URL:https://lako.at/events/praxis-2-erweiterungsschritte-3/
SUMMARY:Praxis 2 - Erweiterungsschritte
DESCRIPTION:Erste relevante Eingriffe im Bienenvolk sind im Frühjahr nöti
 g\, um die Bienen bestmöglich in ihrer Entwicklung zu unterstützen.\n\nW
 ir zeigen diese Erweiterungsschritte am Lehrbienenstand vor und geben Einb
 lick in das Leben der Bienenwesen.
CATEGORIES:Kurs
LOCATION:LFS Krems\, Wienerstraße 101\, Krems\, Niederösterreich\, 3500\,
  Österreich
X-APPLE-STRUCTURED-LOCATION;VALUE=URI;X-ADDRESS=Wienerstraße 101\, Krems\,
  Niederösterreich\, 3500\, Österreich;X-APPLE-RADIUS=100;X-TITLE=LFS Kre
 ms:geo:0,0
END:VEVENT
BEGIN:VTIMEZONE
TZID:Europe/Vienna
X-LIC-LOCATION:Europe/Vienna
BEGIN:DAYLIGHT
DTSTART:20220327T030000
TZOFFSETFROM:+0100
TZOFFSETTO:+0200
TZNAME:CEST
END:DAYLIGHT
END:VTIMEZONE
END:VCALENDAR