BEGIN:VCALENDAR
VERSION:2.0
PRODID:-//wp-events-plugin.com//6.4.10.2//EN
TZID:Europe/Vienna
X-WR-TIMEZONE:Europe/Vienna
BEGIN:VEVENT
UID:1-677@lako.at
DTSTART;TZID=Europe/Vienna:20220326T090000
DTEND;TZID=Europe/Vienna:20220326T170000
DTSTAMP:20220228T092610Z
URL:https://lako.at/events/praxis-12-praxisgrundlagen-erweiterungsschritte
 -9/
SUMMARY:Praxis 1+2 - Praxisgrundlagen + Erweiterungsschritte
DESCRIPTION:Dieser Kurs findet bei der Imkerei Fuchs in Orth/Donau statt.\n
 \nLerne bei den Praxisgrundlagen imkerliche Gerätschaften und Werkzeuge
  kennen. Welche Arbeiten erwarten eine/n ImkerIn nach dem Winter und was k
 ann man bereits am Bienenstand &amp\; Flugloch beobachten?\n\nErste releva
 nte Eingriffe im Bienenvolk sind im Frühjahr nötig\, um die Bienen bestm
 öglich in ihrer Entwicklung zu unterstützen. Wir zeigen diese Erweiterun
 gsschritte am Lehrbienenstand vor und geben Einblick in das Leben der Bien
 enwesen.
CATEGORIES:Kurs
LOCATION:LFS Obersiebenbrunn\, Feldhofstraße 6\, Obersiebenbrunn\, Nieder
 österreich\, 2283\, Österreich
X-APPLE-STRUCTURED-LOCATION;VALUE=URI;X-ADDRESS=Feldhofstraße 6\, Obersieb
 enbrunn\, Niederösterreich\, 2283\, Österreich;X-APPLE-RADIUS=100;X-TITL
 E=LFS Obersiebenbrunn:geo:0,0
END:VEVENT
BEGIN:VTIMEZONE
TZID:Europe/Vienna
X-LIC-LOCATION:Europe/Vienna
BEGIN:STANDARD
DTSTART:20211031T020000
TZOFFSETFROM:+0200
TZOFFSETTO:+0100
TZNAME:CET
END:STANDARD
END:VTIMEZONE
END:VCALENDAR