BEGIN:VCALENDAR
VERSION:2.0
PRODID:-//wp-events-plugin.com//6.4.10.2//EN
TZID:Europe/Vienna
X-WR-TIMEZONE:Europe/Vienna
BEGIN:VEVENT
UID:1-1524@lako.at
DTSTART;TZID=Europe/Vienna:20250412T090000
DTEND;TZID=Europe/Vienna:20250412T170000
DTSTAMP:20250212T101513Z
URL:https://lako.at/events/praxis-12-praxisgrundlagen-erweiterungsschritte
 -47/
SUMMARY:Praxis 1+2 - Praxisgrundlagen + Erweiterungsschritte
DESCRIPTION:Dieser Kurs findet bei der Imkerei Fallmann in Gresten  statt.
 \n\nLerne bei den Praxisgrundlagen imkerliche Gerätschaften und Werkzeug
 e kennen. Welche Arbeiten erwarten eine:n Imker:in nach dem Winter und was
  kann man bereits am Bienenstand und Flugloch beobachten?\n\nErste relevan
 te Eingriffe im Bienenvolk sind im Frühjahr nötig\, um die Bienen bestm
 öglich in ihrer Entwicklung zu unterstützen. Wir zeigen diese Erweiterun
 gsschritte am Lehrbienenstand vor und geben Einblick in das Leben der Bien
 enwesen.
CATEGORIES:Kurs
LOCATION:LFS Hohenlehen\, Garnberg 8\, Hollenstein\, Niederösterreich\, 33
 43\, Österreich
X-APPLE-STRUCTURED-LOCATION;VALUE=URI;X-ADDRESS=Garnberg 8\, Hollenstein\, 
 Niederösterreich\, 3343\, Österreich;X-APPLE-RADIUS=100;X-TITLE=LFS Hohe
 nlehen:geo:0,0
END:VEVENT
BEGIN:VTIMEZONE
TZID:Europe/Vienna
X-LIC-LOCATION:Europe/Vienna
BEGIN:DAYLIGHT
DTSTART:20250330T030000
TZOFFSETFROM:+0100
TZOFFSETTO:+0200
TZNAME:CEST
END:DAYLIGHT
END:VTIMEZONE
END:VCALENDAR