BEGIN:VCALENDAR
VERSION:2.0
PRODID:-//wp-events-plugin.com//6.4.10.2//EN
TZID:Europe/Vienna
X-WR-TIMEZONE:Europe/Vienna
BEGIN:VEVENT
UID:1-1464@lako.at
DTSTART;TZID=Europe/Vienna:20240413T090000
DTEND;TZID=Europe/Vienna:20240413T170000
DTSTAMP:20240325T080839Z
URL:https://lako.at/events/praxis-12-praxisgrundlagen-erweiterungsschritte
 -41/
SUMMARY:Praxis 1+2 - Praxisgrundlagen + Erweiterungsschritte
DESCRIPTION:ACHTUNG: Dieser Kurs findet bei der Imkerei Fallmann in Gresten
  statt.\n\nLerne bei den Praxisgrundlagen imkerliche Gerätschaften und We
 rkzeuge kennen. Welche Arbeiten erwarten eine:n Imker:in nach dem Winter u
 nd was kann man bereits am Bienenstand und Flugloch beobachten?\n\nErste r
 elevante Eingriffe im Bienenvolk sind im Frühjahr nötig\, um die Bienen 
 bestmöglich in ihrer Entwicklung zu unterstützen. Wir zeigen diese Erwei
 terungsschritte am Lehrbienenstand vor und geben Einblick in das Leben der
  Bienenwesen.
CATEGORIES:Kurs
LOCATION:LFS Hohenlehen\, Garnberg 8\, Hollenstein\, Niederösterreich\, 33
 43\, Österreich
X-APPLE-STRUCTURED-LOCATION;VALUE=URI;X-ADDRESS=Garnberg 8\, Hollenstein\, 
 Niederösterreich\, 3343\, Österreich;X-APPLE-RADIUS=100;X-TITLE=LFS Hohe
 nlehen:geo:0,0
END:VEVENT
BEGIN:VTIMEZONE
TZID:Europe/Vienna
X-LIC-LOCATION:Europe/Vienna
BEGIN:DAYLIGHT
DTSTART:20240331T030000
TZOFFSETFROM:+0100
TZOFFSETTO:+0200
TZNAME:CEST
END:DAYLIGHT
END:VTIMEZONE
END:VCALENDAR