BEGIN:VCALENDAR
VERSION:2.0
PRODID:-//wp-events-plugin.com//6.4.10.2//EN
TZID:Europe/Vienna
X-WR-TIMEZONE:Europe/Vienna
BEGIN:VEVENT
UID:1-1237@lako.at
DTSTART;TZID=Europe/Vienna:20240329T090000
DTEND;TZID=Europe/Vienna:20240329T170000
DTSTAMP:20240328T083524Z
URL:https://lako.at/events/praxis-12-praxisgrundlagen-erweiterungsschritte
 -40/
SUMMARY:Praxis 1+2 - Praxisgrundlagen + Erweiterungsschritte
DESCRIPTION:Lerne bei den Praxisgrundlagen imkerliche Gerätschaften und We
 rkzeuge kennen. Welche Arbeiten erwarten eine:n Imker:in nach dem Winter u
 nd was kann man bereits am Bienenstand und Flugloch beobachten?\n\nErste r
 elevante Eingriffe im Bienenvolk sind im Frühjahr nötig um die Bienen be
 stmöglich in ihrer Entwicklung zu unterstützen. Wir zeigen diese Erweite
 rungsschritte am Lehrbienenstand vor und geben Einblick in das Leben der B
 ienenwesen.
CATEGORIES:Kurs
LOCATION:LFS Mistelbach\, Winzerschulgasse 50\, Mistelbach\, Niederösterre
 ich\, 2130\, Österreich
X-APPLE-STRUCTURED-LOCATION;VALUE=URI;X-ADDRESS=Winzerschulgasse 50\, Miste
 lbach\, Niederösterreich\, 2130\, Österreich;X-APPLE-RADIUS=100;X-TITLE=
 LFS Mistelbach:geo:0,0
END:VEVENT
BEGIN:VTIMEZONE
TZID:Europe/Vienna
X-LIC-LOCATION:Europe/Vienna
BEGIN:STANDARD
DTSTART:20231029T020000
TZOFFSETFROM:+0200
TZOFFSETTO:+0100
TZNAME:CET
END:STANDARD
END:VTIMEZONE
END:VCALENDAR