BEGIN:VCALENDAR
VERSION:2.0
PRODID:-//wp-events-plugin.com//6.4.10.2//EN
TZID:Europe/Vienna
X-WR-TIMEZONE:Europe/Vienna
BEGIN:VEVENT
UID:1-1297@lako.at
DTSTART;TZID=Europe/Vienna:20240420T090000
DTEND;TZID=Europe/Vienna:20240420T170000
DTSTAMP:20240325T083448Z
URL:https://lako.at/events/praxis-12-praxisgrundlagen-erweiterungsschritte
 -37/
SUMMARY:Praxis 1+2 - Praxisgrundlagen + Erweiterungsschritte
DESCRIPTION:Lerne bei den Praxisgrundlagen imkerliche Gerätschaften und W
 erkzeuge kennen. Welche Arbeiten erwarten eine:n Imker:in nach dem Winter 
 und was kann man bereits am Bienenstand und Flugloch beobachten?\n\nErste 
 relevante Eingriffe im Bienenvolk sind im Frühjahr nötig\, um die Bienen
  bestmöglich in ihrer Entwicklung zu unterstützen. Wir zeigen diese Erwe
 iterungsschritte am Lehrbienenstand vor und geben Einblick in das Leben de
 r Bienenwesen.
CATEGORIES:Kurs
LOCATION:Die Garten Tulln\, Am Wasserpark 1\, Tulln\, Niederösterreich\, 3
 430\, Österreich
X-APPLE-STRUCTURED-LOCATION;VALUE=URI;X-ADDRESS=Am Wasserpark 1\, Tulln\, N
 iederösterreich\, 3430\, Österreich;X-APPLE-RADIUS=100;X-TITLE=Die Garte
 n Tulln:geo:0,0
END:VEVENT
BEGIN:VTIMEZONE
TZID:Europe/Vienna
X-LIC-LOCATION:Europe/Vienna
BEGIN:DAYLIGHT
DTSTART:20240331T030000
TZOFFSETFROM:+0100
TZOFFSETTO:+0200
TZNAME:CEST
END:DAYLIGHT
END:VTIMEZONE
END:VCALENDAR