BEGIN:VCALENDAR
VERSION:2.0
PRODID:-//wp-events-plugin.com//6.4.10.2//EN
TZID:Europe/Vienna
X-WR-TIMEZONE:Europe/Vienna
BEGIN:VEVENT
UID:1-702@lako.at
DTSTART;TZID=Europe/Vienna:20220409T090000
DTEND;TZID=Europe/Vienna:20220409T130000
DTSTAMP:20220329T082458Z
URL:https://lako.at/events/praxis-1-praxisgrundlagen-6/
SUMMARY:Praxis 1 - Praxisgrundlagen
DESCRIPTION:ACHTUNG: Termin wetterbedingt von 02.04 auf 09.04. verschoben!\
 n\nLerne bei den Praxisgrundlagen imkerliche Gerätschaften und Werkzeuge 
 kennen.\n\nWelche Arbeiten erwarten eine/n ImkerIn nach dem Winter und was
  kann man bereits am Bienenstand &amp\; Flugloch beobachten?
CATEGORIES:Kurs
LOCATION:LFS Tullnerbach\, Norbertinumstraße 9\, Tullnerbach\, Niederöste
 rreich\, 3013\, Österreich
X-APPLE-STRUCTURED-LOCATION;VALUE=URI;X-ADDRESS=Norbertinumstraße 9\, Tull
 nerbach\, Niederösterreich\, 3013\, Österreich;X-APPLE-RADIUS=100;X-TITL
 E=LFS Tullnerbach:geo:0,0
END:VEVENT
BEGIN:VTIMEZONE
TZID:Europe/Vienna
X-LIC-LOCATION:Europe/Vienna
BEGIN:DAYLIGHT
DTSTART:20220327T030000
TZOFFSETFROM:+0100
TZOFFSETTO:+0200
TZNAME:CEST
END:DAYLIGHT
END:VTIMEZONE
END:VCALENDAR