BEGIN:VCALENDAR
VERSION:2.0
PRODID:-//wp-events-plugin.com//6.4.10.2//EN
TZID:Europe/Vienna
X-WR-TIMEZONE:Europe/Vienna
BEGIN:VEVENT
UID:1-1687@lako.at
DTSTART;TZID=Europe/Vienna:20251020T083000
DTEND;TZID=Europe/Vienna:20251024T173000
DTSTAMP:20241118T193617Z
URL:https://lako.at/events/internationaler-stein-wein-workshop-2025/
SUMMARY:Internationaler Stein &amp\; Wein Workshop 2025
DESCRIPTION:Kursort: GARTENBAUSCHULE LANGENLOIS\nDer 10. internationale Tro
 ckensteinmauer-Workshop in Österreich mit reicher Abwechslung.\nBauobjekt
 : Steinschiff. Als historische Ideengeber dienen die Schiffssetzungen von 
 der Bronzezeit bis zur Wikingerzeit im Ostseeraum. Das Steinschiff dient k
 ünftig als Gazebo und soll das Gefühl von „sailing through the gardens
  and vineyards of Langenlois“ vermitteln.\nInkl. Steinbearbeitung\, Pfla
 sterarbeiten\, kulinarisches Rahmenprogramm.\nTrainer und Teilnehmer sind 
 Trockensteinmaurer\, Steinmetze und Künstler aus mehreren Nationen.\nKurs
 beitrag € 490\,-\n\nInfo direkt bei rainer.vogler@wbs-krems.at (Tel 0676
  59 57 626) oder helmut.schieder@gartenbauschule.at (Tel 0664 38 73 602).\
 n\nBuchung auch in Kombination mit dem Internationalen Trockenstein-Kongre
 ss von 25. - 27. Okt 2025 möglich --&gt\; zur online-Anmeldung
CATEGORIES:Kurs
LOCATION:LFS + BS Langenlois\, Am Rosenhügel 15\, Langenlois\, Niederöste
 rreich\, 3550\, Österreich
X-APPLE-STRUCTURED-LOCATION;VALUE=URI;X-ADDRESS=Am Rosenhügel 15\, Langenl
 ois\, Niederösterreich\, 3550\, Österreich;X-APPLE-RADIUS=100;X-TITLE=LF
 S + BS Langenlois:geo:0,0
END:VEVENT
BEGIN:VTIMEZONE
TZID:Europe/Vienna
X-LIC-LOCATION:Europe/Vienna
BEGIN:DAYLIGHT
DTSTART:20250330T030000
TZOFFSETFROM:+0100
TZOFFSETTO:+0200
TZNAME:CEST
END:DAYLIGHT
END:VTIMEZONE
END:VCALENDAR