BEGIN:VCALENDAR
VERSION:2.0
PRODID:-//wp-events-plugin.com//6.4.10.2//EN
TZID:Europe/Vienna
X-WR-TIMEZONE:Europe/Vienna
BEGIN:VEVENT
UID:1-511@lako.at
DTSTART;TZID=Europe/Vienna:20211024T090000
DTEND;TZID=Europe/Vienna:20211024T170000
DTSTAMP:20210930T101842Z
URL:https://lako.at/events/imkerei-vom-nebenerwerb-zum-beruf/
SUMMARY:Imkerei - Vom Nebenerwerb zum Beruf
DESCRIPTION:Wir erzählen aus der Praxis\, wie eine hauptberufliche Imkerei
  funktionieren kann und was sie mit sich bringt.\n\n 	Neuausrichtung der I
 mkerei auf Hauptberuf &amp\; effiziente Honigproduktion sowie Völker- &am
 p\; Königinnenverkauf\n 	Jahresplanung\, Vermarktung &amp\; Organisations
 elemente einer Erwerbsimkerei\n 	Voraussetzung\, Führung\, Ausbildung von
  Lehrlingen &amp\; MitarbeiterInnen sowie betriebliche Leitung\n 	Lohnsteu
 er &amp\; Gewerberecht\n
CATEGORIES:Kurs
LOCATION:Schlossgasthof &amp\; Hotel Rosenburg\, Rosenburg 2\, Rosenburg\, 
 3573\, Österreich
X-APPLE-STRUCTURED-LOCATION;VALUE=URI;X-ADDRESS=Rosenburg 2\, Rosenburg\, 3
 573\, Österreich;X-APPLE-RADIUS=100;X-TITLE=Schlossgasthof & Hotel Rosenb
 urg:geo:0,0
END:VEVENT
BEGIN:VTIMEZONE
TZID:Europe/Vienna
X-LIC-LOCATION:Europe/Vienna
BEGIN:DAYLIGHT
DTSTART:20210328T030000
TZOFFSETFROM:+0100
TZOFFSETTO:+0200
TZNAME:CEST
END:DAYLIGHT
END:VTIMEZONE
END:VCALENDAR