BEGIN:VCALENDAR
VERSION:2.0
PRODID:-//wp-events-plugin.com//6.4.10.2//EN
TZID:Europe/Vienna
X-WR-TIMEZONE:Europe/Vienna
BEGIN:VEVENT
UID:1-1084@lako.at
DTSTART;TZID=Europe/Vienna:20221117T130000
DTEND;TZID=Europe/Vienna:20221117T170000
DTSTAMP:20220823T050606Z
URL:https://lako.at/events/hygieneschulung-fuer-die-imkerei-10/
SUMMARY:Hygieneschulung für die Imkerei
DESCRIPTION:Hygiene &amp\; Hygienepraxis in der Imkerei:\n\n 	Lebensmittels
 icherheits- und Verbraucherschutzgesetz\n 	Rechtsgrundlagen\, Anforderunge
 n an die Primärproduktion\n 	Leitlinie für eine gute Herstellungspraxis 
 in Imkereibetrieben\n 	Kennzeichnung von Imkereiprodukten\n 	Mikrobiologie
  und Risikoanalyse\n 	Dokumentation und Gewährleistung\n
CATEGORIES:Kurs
LOCATION:LFS Warth\, Aichhof 1\, Warth\, Niederösterreich\, 2831\, Österr
 eich
X-APPLE-STRUCTURED-LOCATION;VALUE=URI;X-ADDRESS=Aichhof 1\, Warth\, Nieder
 österreich\, 2831\, Österreich;X-APPLE-RADIUS=100;X-TITLE=LFS Warth:geo:
 0,0
END:VEVENT
BEGIN:VTIMEZONE
TZID:Europe/Vienna
X-LIC-LOCATION:Europe/Vienna
BEGIN:STANDARD
DTSTART:20221030T020000
TZOFFSETFROM:+0200
TZOFFSETTO:+0100
TZNAME:CET
END:STANDARD
END:VTIMEZONE
END:VCALENDAR