BEGIN:VCALENDAR
VERSION:2.0
PRODID:-//wp-events-plugin.com//6.4.10.2//EN
TZID:Europe/Vienna
X-WR-TIMEZONE:Europe/Vienna
BEGIN:VEVENT
UID:1-1800@lako.at
DTSTART;TZID=Europe/Vienna:20260305T140000
DTEND;TZID=Europe/Vienna:20260305T180000
DTSTAMP:20260302T084853Z
URL:https://lako.at/events/honigqualitaet-sensorik-8/
SUMMARY:Honigqualität &amp\; Sensorik
DESCRIPTION:\n 	Wassergehalts- und Leitfähigkeitsmessung\n 	Honig richtig 
 be- und verarbeiten\n 	Cremehonigherstellung\n 	Sensorik &amp\; Verkostung
  von regionalen Honigsorten\n\nIm Kursbeitrag sind € 4 Materialkosten en
 thalten.
CATEGORIES:Kurs
LOCATION:LFS Warth\, Aichhof 1\, Warth\, Niederösterreich\, 2831\, Österr
 eich
X-APPLE-STRUCTURED-LOCATION;VALUE=URI;X-ADDRESS=Aichhof 1\, Warth\, Nieder
 österreich\, 2831\, Österreich;X-APPLE-RADIUS=100;X-TITLE=LFS Warth:geo:
 0,0
END:VEVENT
BEGIN:VTIMEZONE
TZID:Europe/Vienna
X-LIC-LOCATION:Europe/Vienna
BEGIN:STANDARD
DTSTART:20251026T020000
TZOFFSETFROM:+0200
TZOFFSETTO:+0100
TZNAME:CET
END:STANDARD
END:VTIMEZONE
END:VCALENDAR