BEGIN:VCALENDAR
VERSION:2.0
PRODID:-//wp-events-plugin.com//6.4.10.2//EN
TZID:Europe/Vienna
X-WR-TIMEZONE:Europe/Vienna
BEGIN:VEVENT
UID:1-1504@lako.at
DTSTART;TZID=Europe/Vienna:20250325T180000
DTEND;TZID=Europe/Vienna:20250326T220000
DTSTAMP:20240725T074526Z
URL:https://lako.at/events/grundkurs-fuer-den-imkerei-einstieg-86/
SUMMARY:Grundkurs für den Imkerei-Einstieg
DESCRIPTION:\n 	Termin: Di.  25.03.2025 von 18-22 Uhr\n 	Termin: Mi. 26.0
 3.2025 von 18-22 Uhr\n\nDu interessierst dich für Bienen und überlegst\
 , eigene Völker zu betreuen? Dann ist diese Grundschulung genau das Richt
 ige!\n\n 	Persönliche Eignung &amp\; Voraussetzungen für die Bienenhaltu
 ng\n 	Bienenwesen und ihre Entwicklung &amp\; Leben der Bienen\n 	Bienenwo
 hnungen / Bienenbeuten &amp\; anfallende Arbeiten im Jahreskreislauf\n 	Mi
 ndestanschaffungen in der Hobbyimkerei &amp\; Kauf von Bienenvölkern\n 	V
 erbandsorganisation\, VIS-Registrierung\, NÖ Bienenzuchtgesetz\n\nVor Ort
  erhältst du eine umfassende Kursunterlage als Nachschlagewerk für Theor
 ie und Praxis sowie die Doppel-DVD "Ein Bienenjahr - Ein Imkerjahr"\n\n&nb
 sp\;\n\n&nbsp\;
CATEGORIES:Kurs
LOCATION:LFS Tullnerbach\, Norbertinumstraße 9\, Tullnerbach\, Niederöste
 rreich\, 3013\, Österreich
X-APPLE-STRUCTURED-LOCATION;VALUE=URI;X-ADDRESS=Norbertinumstraße 9\, Tull
 nerbach\, Niederösterreich\, 3013\, Österreich;X-APPLE-RADIUS=100;X-TITL
 E=LFS Tullnerbach:geo:0,0
END:VEVENT
BEGIN:VTIMEZONE
TZID:Europe/Vienna
X-LIC-LOCATION:Europe/Vienna
BEGIN:STANDARD
DTSTART:20241027T020000
TZOFFSETFROM:+0200
TZOFFSETTO:+0100
TZNAME:CET
END:STANDARD
END:VTIMEZONE
END:VCALENDAR