BEGIN:VCALENDAR
VERSION:2.0
PRODID:-//wp-events-plugin.com//6.4.10.2//EN
TZID:Europe/Vienna
X-WR-TIMEZONE:Europe/Vienna
BEGIN:VEVENT
UID:1-525@lako.at
DTSTART;TZID=Europe/Vienna:20220301T180000
DTEND;TZID=Europe/Vienna:20220301T220000
DTSTAMP:20210722T131951Z
URL:https://lako.at/events/grundkurs-fuer-den-imkerei-einstieg-8/
SUMMARY:Grundkurs für den Imkerei-Einstieg
DESCRIPTION:\n 	Termin: Di. 01.03.2022 von 18-22 Uhr\n 	Termin: Di. 08.03.
 2022 von 18-22 Uhr\n\nDu interessierst dich für Bienen und überlegst ei
 gene Völker zu betreuen? Dann ist diese Grundschulung genau das Richtige!
 \n\n 	Persönliche Eignung &amp\; Voraussetzungen für die Bienenhaltung\n
  	Mindestanschaffungen in der Hobbyimkerei &amp\; Kauf von Bienenvölkern\
 n 	Leben der Bienen &amp\; anfallende Arbeiten im Jahreskreislauf\n 	Verba
 ndsorganisation\, VIS-Registrierung\, NÖ Bienenzuchtgesetz\n\nVor Ort erh
 ältst du eine umfassende Kursunterlage als Nachschlagewerk für Theorie &
 amp\; Praxis sowie die Doppel-DVD "Ein Bienenjahr - Ein Imkerjahr" !
CATEGORIES:Kurs
LOCATION:LFS Pyhra\, Kyrnbergstraße 4\, Pyhra\, Niederösterreich\, 3143\,
  Österreich
X-APPLE-STRUCTURED-LOCATION;VALUE=URI;X-ADDRESS=Kyrnbergstraße 4\, Pyhra\,
  Niederösterreich\, 3143\, Österreich;X-APPLE-RADIUS=100;X-TITLE=LFS Pyh
 ra:geo:0,0
END:VEVENT
BEGIN:VTIMEZONE
TZID:Europe/Vienna
X-LIC-LOCATION:Europe/Vienna
BEGIN:STANDARD
DTSTART:20211031T020000
TZOFFSETFROM:+0200
TZOFFSETTO:+0100
TZNAME:CET
END:STANDARD
END:VTIMEZONE
END:VCALENDAR