BEGIN:VCALENDAR
VERSION:2.0
PRODID:-//wp-events-plugin.com//6.4.10.2//EN
TZID:Europe/Vienna
X-WR-TIMEZONE:Europe/Vienna
BEGIN:VEVENT
UID:1-524@lako.at
DTSTART;TZID=Europe/Vienna:20211109T180000
DTEND;TZID=Europe/Vienna:20211109T220000
DTSTAMP:20210722T131535Z
URL:https://lako.at/events/grundkurs-fuer-den-imkerei-einstieg-7/
SUMMARY:Grundkurs für den Imkerei-Einstieg
DESCRIPTION:\n 	Termin: Di. 09.11.2021 von 18-22 Uhr\n 	Termin: Di. 16.11.2
 021 von 18-22 Uhr\n\nDu interessierst dich für Bienen und überlegst eige
 ne Völker zu betreuen? Dann ist diese Grundschulung genau das Richtige!\n
 \n 	Persönliche Eignung &amp\; Voraussetzungen für die Bienenhaltung\n 	
 Mindestanschaffungen in der Hobbyimkerei &amp\; Kauf von Bienenvölkern\n 
 	Leben der Bienen &amp\; anfallende Arbeiten im Jahreskreislauf\n 	Verband
 sorganisation\, VIS-Registrierung\, NÖ Bienenzuchtgesetz\n\nVor Ort erhä
 ltst du eine umfassende Kursunterlage als Nachschlagewerk für Theorie &am
 p\; Praxis sowie die Doppel-DVD "Ein Bienenjahr - Ein Imkerjahr" !
CATEGORIES:Kurs
LOCATION:LFS Pyhra\, Kyrnbergstraße 4\, Pyhra\, Niederösterreich\, 3143\,
  Österreich
X-APPLE-STRUCTURED-LOCATION;VALUE=URI;X-ADDRESS=Kyrnbergstraße 4\, Pyhra\,
  Niederösterreich\, 3143\, Österreich;X-APPLE-RADIUS=100;X-TITLE=LFS Pyh
 ra:geo:0,0
END:VEVENT
BEGIN:VTIMEZONE
TZID:Europe/Vienna
X-LIC-LOCATION:Europe/Vienna
BEGIN:STANDARD
DTSTART:20211031T020000
TZOFFSETFROM:+0200
TZOFFSETTO:+0100
TZNAME:CET
END:STANDARD
END:VTIMEZONE
END:VCALENDAR