BEGIN:VCALENDAR
VERSION:2.0
PRODID:-//wp-events-plugin.com//6.4.10.2//EN
TZID:Europe/Vienna
X-WR-TIMEZONE:Europe/Vienna
BEGIN:VEVENT
UID:1-529@lako.at
DTSTART;TZID=Europe/Vienna:20220211T090000
DTEND;TZID=Europe/Vienna:20220211T170000
DTSTAMP:20210803T082919Z
URL:https://lako.at/events/grundkurs-fuer-den-imkerei-einstieg-11/
SUMMARY:Grundkurs für den Imkerei-Einstieg
DESCRIPTION:Du interessierst dich für Bienen und überlegst eigene Völker
  zu betreuen? Dann ist diese Grundschulung genau das Richtige!\n\n 	Persö
 nliche Eignung &amp\; Voraussetzungen für die Bienenhaltung\n 	Mindestans
 chaffungen in der Hobbyimkerei &amp\; Kauf von Bienenvölkern\n 	Leben der
  Bienen &amp\; anfallende Arbeiten im Jahreskreislauf\n 	Verbandsorganisat
 ion\, VIS-Registrierung\, NÖ Bienenzuchtgesetz\n\nVor Ort erhältst du ei
 ne umfassende Kursunterlage als Nachschlagewerk für Theorie &amp\; Praxis
  sowie die Doppel-DVD "Ein Bienenjahr - Ein Imkerjahr" !
CATEGORIES:Kurs
LOCATION:LFS Mistelbach\, Winzerschulgasse 50\, Mistelbach\, Niederösterre
 ich\, 2130\, Österreich
X-APPLE-STRUCTURED-LOCATION;VALUE=URI;X-ADDRESS=Winzerschulgasse 50\, Miste
 lbach\, Niederösterreich\, 2130\, Österreich;X-APPLE-RADIUS=100;X-TITLE=
 LFS Mistelbach:geo:0,0
END:VEVENT
BEGIN:VTIMEZONE
TZID:Europe/Vienna
X-LIC-LOCATION:Europe/Vienna
BEGIN:STANDARD
DTSTART:20211031T020000
TZOFFSETFROM:+0200
TZOFFSETTO:+0100
TZNAME:CET
END:STANDARD
END:VTIMEZONE
END:VCALENDAR