BEGIN:VCALENDAR
VERSION:2.0
PRODID:-//wp-events-plugin.com//6.4.10.2//EN
TZID:Europe/Vienna
X-WR-TIMEZONE:Europe/Vienna
BEGIN:VEVENT
UID:1-1079@lako.at
DTSTART;TZID=Europe/Vienna:20230116T180000
DTEND;TZID=Europe/Vienna:20230117T200000
DTSTAMP:20220823T035918Z
URL:https://lako.at/events/faulbrut-erkennen-sanieren-2/
SUMMARY:Faulbrut erkennen &amp\; sanieren
DESCRIPTION:Bei der Amerikanischen Faulbrut handelt es sich um eine bakteri
 elle Brutkrankheit der Honigbienen. Bereits im Verdachtsfall ist diese Bie
 nenseuche anzeigepflichtig.\n\nAufklärung in der Imkerschaft über Schadb
 ild\, die korrekte Vorgehensweise der Meldung und die Maßnahmen zur Sanie
 rung &amp\; Vorbeugung\, ist essenziell für die Bekämpfung der Faulbrut.
CATEGORIES:Kurs
LOCATION:Online-Seminarraum\, \, Österreich
X-APPLE-STRUCTURED-LOCATION;VALUE=URI;X-ADDRESS=\, Österreich;X-APPLE-RADI
 US=100;X-TITLE=Online-Seminarraum:geo:0,0
END:VEVENT
BEGIN:VTIMEZONE
TZID:Europe/Vienna
X-LIC-LOCATION:Europe/Vienna
BEGIN:STANDARD
DTSTART:20221030T020000
TZOFFSETFROM:+0200
TZOFFSETTO:+0100
TZNAME:CET
END:STANDARD
END:VTIMEZONE
END:VCALENDAR