BEGIN:VCALENDAR
VERSION:2.0
PRODID:-//wp-events-plugin.com//6.4.10.2//EN
TZID:Europe/Vienna
X-WR-TIMEZONE:Europe/Vienna
BEGIN:VEVENT
UID:1-1593@lako.at
DTSTART;TZID=Europe/Vienna:20250519T090000
DTEND;TZID=Europe/Vienna:20250522T170000
DTSTAMP:20241010T093726Z
URL:https://lako.at/events/facharbeiter-praxistage/
SUMMARY:Facharbeiter Praxistage
DESCRIPTION:4 Praxistage ausschließlich für angehende ImkerfacharbeiterI
 nnen\n\nInhalt:\n\n 	8 UE Bienenpflege\n 	8 UE Zucht\n 	8 UE Bienengesundh
 eit\n 	8 UE Bienenprodukte\n\n&nbsp\;\n\n&nbsp\;
CATEGORIES:Kurs
LOCATION:LFS Warth\, Aichhof 1\, Warth\, Niederösterreich\, 2831\, Österr
 eich
X-APPLE-STRUCTURED-LOCATION;VALUE=URI;X-ADDRESS=Aichhof 1\, Warth\, Nieder
 österreich\, 2831\, Österreich;X-APPLE-RADIUS=100;X-TITLE=LFS Warth:geo:
 0,0
END:VEVENT
BEGIN:VTIMEZONE
TZID:Europe/Vienna
X-LIC-LOCATION:Europe/Vienna
BEGIN:DAYLIGHT
DTSTART:20250330T030000
TZOFFSETFROM:+0100
TZOFFSETTO:+0200
TZNAME:CEST
END:DAYLIGHT
END:VTIMEZONE
END:VCALENDAR