BEGIN:VCALENDAR
VERSION:2.0
PRODID:-//wp-events-plugin.com//6.4.10.2//EN
TZID:Europe/Vienna
X-WR-TIMEZONE:Europe/Vienna
BEGIN:VEVENT
UID:1-1080@lako.at
DTSTART;TZID=Europe/Vienna:20230321T180000
DTEND;TZID=Europe/Vienna:20230322T220000
DTSTAMP:20220823T040841Z
URL:https://lako.at/events/einfuehrung-in-die-biologische-bienenhaltung/
SUMMARY:Einführung in die biologische Bienenhaltung
DESCRIPTION:1.Teil-Termin: Mo. 21.03.2023 von 18.00-22.00\n\n2.Teil-Termin:
  Di. 22.03.2023 von 18.00-22.00\n\nBioimkerei - Rechtliche Grundlagen der 
 EU Verordnung und der Richtlinien der Bioverbände ins Alltagsdeutsch und 
 die Praxis übersetzt. Warum? Weil du den besten Honig der Welt erzeugen w
 illst\, als Wertschätzung der Biene gegenüber und du keine Anfangsfehler
  machen willst\, die dem entgegen stehen.  Ein bisschen Ahnung von Bienen
  und Imkerei ist hilfreich.
CATEGORIES:Kurs
LOCATION:Online-Seminarraum\, \, Österreich
X-APPLE-STRUCTURED-LOCATION;VALUE=URI;X-ADDRESS=\, Österreich;X-APPLE-RADI
 US=100;X-TITLE=Online-Seminarraum:geo:0,0
END:VEVENT
BEGIN:VTIMEZONE
TZID:Europe/Vienna
X-LIC-LOCATION:Europe/Vienna
BEGIN:STANDARD
DTSTART:20221030T020000
TZOFFSETFROM:+0200
TZOFFSETTO:+0100
TZNAME:CET
END:STANDARD
END:VTIMEZONE
END:VCALENDAR