BEGIN:VCALENDAR
VERSION:2.0
PRODID:-//wp-events-plugin.com//6.4.10.2//EN
TZID:Europe/Vienna
X-WR-TIMEZONE:Europe/Vienna
BEGIN:VEVENT
UID:1-1085@lako.at
DTSTART;TZID=Europe/Vienna:20221118T090000
DTEND;TZID=Europe/Vienna:20221118T170000
DTSTAMP:20220823T051306Z
URL:https://lako.at/events/biologisch-imkern-3/
SUMMARY:Biologisch Imkern
DESCRIPTION:Bioimkerei - Rechtliche Grundlagen der EU Verordnung und der Ri
 chtlinien der Bioverbände ins Alltagsdeutsch und die Praxis übersetzt. W
 arum? Weil du den besten Honig der Welt erzeugen willst\, als Wertschätzu
 ng der Biene gegenüber und du keine Anfangsfehler machen willst\, die dem
  entgegen stehen.\n\nKenntnisse über Bienen und Imkerei sollten gegeben s
 ein. Auch geeignet für den Umstieg zur biologischen Bienenhaltung.\n\n&nb
 sp\;
CATEGORIES:Kurs
LOCATION:LFS Warth\, Aichhof 1\, Warth\, Niederösterreich\, 2831\, Österr
 eich
X-APPLE-STRUCTURED-LOCATION;VALUE=URI;X-ADDRESS=Aichhof 1\, Warth\, Nieder
 österreich\, 2831\, Österreich;X-APPLE-RADIUS=100;X-TITLE=LFS Warth:geo:
 0,0
END:VEVENT
BEGIN:VTIMEZONE
TZID:Europe/Vienna
X-LIC-LOCATION:Europe/Vienna
BEGIN:STANDARD
DTSTART:20221030T020000
TZOFFSETFROM:+0200
TZOFFSETTO:+0100
TZNAME:CET
END:STANDARD
END:VTIMEZONE
END:VCALENDAR