BEGIN:VCALENDAR
VERSION:2.0
PRODID:-//wp-events-plugin.com//6.4.10.2//EN
TZID:Europe/Vienna
X-WR-TIMEZONE:Europe/Vienna
BEGIN:VEVENT
UID:1-1685@lako.at
DTSTART;TZID=Europe/Vienna:20250501T083000
DTEND;TZID=Europe/Vienna:20250503T170000
DTSTAMP:20241024T151642Z
URL:https://lako.at/events/3taegiger-praxiskurs-trockensteinmauern-36/
SUMMARY:3tägiger Praxiskurs Trockensteinmauern
DESCRIPTION:Kursort: OSSIACH - Bleistätter Moor\, Kärnten\n\nDas Trockens
 teinmauern ist als älteste menschliche Bauweise seit 2021 in Österreich 
 immaterielles Kulturerbe der UNESCO. Trockensteinmauern sind nachhaltig &a
 mp\; ressourcenschonend\, ästhetisch um Haus\, Hof &amp\; Garten\, nützl
 ich an Böschungen\, dauerhaft und ein abwechslungsreicher\, ökologisch w
 ertvoller Biotop.\nDie Praxiskurse richten sich an jeden\, um vom Fundamen
 t bis zur Mauerkrone die technischen Regeln einzuhalten und die Handgriffe
  von Anfang an „richtig“ zu machen. Erforderliche Hilfsmittel\, Steins
 ortierung und -auswahl sowie Logistik und ein effizienter Arbeitsablauf we
 rden praktisch angewandt. Ein Bildvortrag zur 7000jährigen Geschichte\, z
 ur Ökologie und zu nationalen &amp\; internationalen Bauwerken ergänzt d
 ie Praxis. Zahlreiche Fotos unterschiedlicher Mauern und Bauelemente wie S
 tiegen\, Sitzbänke\, Nischen oder Gewölbe sowie die Anleitungen dazu geb
 en Ideen für eigene Projekte.\nVideos über das Trockensteinmauern auf ww
 w.agrovideos.at.\nKursbeitrag 290 € inkl. Unterlagen und Mittagessen &am
 p\; Getränke beim Kurs. Terminänderungen bei Schlechtwetter möglich\, K
 urszeit täglich von 08.30 – 17.00 Uhr.
CATEGORIES:Kurs
LOCATION:Landimpulse\, Ort siehe Kursbeschreibung\, Österreich
X-APPLE-STRUCTURED-LOCATION;VALUE=URI;X-ADDRESS=Ort siehe Kursbeschreibung\
 , Österreich;X-APPLE-RADIUS=100;X-TITLE=Landimpulse:geo:0,0
END:VEVENT
BEGIN:VTIMEZONE
TZID:Europe/Vienna
X-LIC-LOCATION:Europe/Vienna
BEGIN:DAYLIGHT
DTSTART:20250330T030000
TZOFFSETFROM:+0100
TZOFFSETTO:+0200
TZNAME:CEST
END:DAYLIGHT
END:VTIMEZONE
END:VCALENDAR