BEGIN:VCALENDAR
VERSION:2.0
PRODID:-//wp-events-plugin.com//6.4.10.2//EN
TZID:Europe/Vienna
X-WR-TIMEZONE:Europe/Vienna
BEGIN:VEVENT
UID:1-1409@lako.at
DTSTART;TZID=Europe/Vienna:20240509T083000
DTEND;TZID=Europe/Vienna:20240511T170000
DTSTAMP:20230821T131106Z
URL:https://lako.at/events/3taegiger-praxiskurs-trockensteinmauern-12/
SUMMARY:3tägiger Praxiskurs Trockensteinmauern
DESCRIPTION:Kursort: Österreichisches Freilichtmuseum STÜBING\, Stmk.\n\n
 Das Trockensteinmauern ist als älteste menschliche Bauweise seit 2021 in 
 Österreich immaterielles Kulturerbe der UNESCO. Trockensteinmauern sind n
 achhaltig &amp\; ressourcenschonend\, ästhetisch um Haus\, Hof &amp\; Gar
 ten\, nützlich an Böschungen\, dauerhaft und ein abwechslungsreicher\, 
 ökologisch wertvoller Biotop.\nDie Praxiskurse richten sich an jeden\, um
  vom Fundament bis zur Mauerkrone die technischen Regeln einzuhalten und d
 ie Handgriffe von Anfang an „richtig“ zu machen. Erforderliche Hilfsmi
 ttel\, Steinsortierung und -auswahl sowie Logistik und ein effizienter Arb
 eitsablauf werden praktisch angewandt. Ein Bildvortrag zur 7000jährigen G
 eschichte\, zur Ökologie und zu nationalen &amp\; internationalen Bauwerk
 en ergänzt die Praxis. Zahlreiche Fotos unterschiedlicher Mauern und Baue
 lemente wie Stiegen\, Sitzbänke\, Nischen oder Gewölbe sowie die Anleitu
 ngen dazu geben Ideen für eigene Projekte.\nVideos über das Trockenstein
 mauern www.agrovideos.at\nKursbeitrag 290 € inkl. Unterlagen und Mittage
 ssen &amp\; Getränke beim Kurs. Terminänderungen bei Schlechtwetter mög
 lich\, Kurszeit täglich von 08.30 – 17.00 Uhr.
CATEGORIES:Kurs
LOCATION:Landimpulse\, Ort siehe Kursbeschreibung\, Österreich
X-APPLE-STRUCTURED-LOCATION;VALUE=URI;X-ADDRESS=Ort siehe Kursbeschreibung\
 , Österreich;X-APPLE-RADIUS=100;X-TITLE=Landimpulse:geo:0,0
END:VEVENT
BEGIN:VTIMEZONE
TZID:Europe/Vienna
X-LIC-LOCATION:Europe/Vienna
BEGIN:DAYLIGHT
DTSTART:20240331T030000
TZOFFSETFROM:+0100
TZOFFSETTO:+0200
TZNAME:CEST
END:DAYLIGHT
END:VTIMEZONE
END:VCALENDAR