BEGIN:VCALENDAR
VERSION:2.0
PRODID:-//wp-events-plugin.com//6.4.10.2//EN
TZID:Europe/Vienna
X-WR-TIMEZONE:Europe/Vienna
BEGIN:VEVENT
UID:1-1047@lako.at
DTSTART;TZID=Europe/Vienna:20230323T083000
DTEND;TZID=Europe/Vienna:20230325T170000
DTSTAMP:20220822T160829Z
URL:https://lako.at/events/3-taegiger-praxiskurs-errichtung-von-trockenste
 inmauern-15/
SUMMARY:3-tägiger Praxiskurs: Errichtung von Trockensteinmauern
DESCRIPTION:Kursort: BIOSPHÄRENPARK WIENERWALD\, Thermenregion\n\nTrockens
 teinmauern: als älteste menschliche Bauweise seit 2021 in Österreich imm
 aterielles Kulturerbe der UNESCO\, ein ökologisch wertvoller Biotop\, nac
 hhaltig &amp\; ressourcenschonend\, ästhetisch um Haus\, Hof &amp\; Garte
 n\, nützlich an Böschungen und dauerhaft. Praxiskurs von Fundament bis M
 auerkrone\, ergänzt um einen abwechslungsreichen Bildvortrag zu Ökologie
 \, Baugeschichte und nationalen und internationalen Bauwerken. Beitrag 290
 \,- € inkl. Unterlagen &amp\; Verpflegung. Terminänderungen bei Schlech
 twetter möglich.
CATEGORIES:Kurs
LOCATION:Landimpulse\, Ort siehe Kursbeschreibung\, Österreich
X-APPLE-STRUCTURED-LOCATION;VALUE=URI;X-ADDRESS=Ort siehe Kursbeschreibung\
 , Österreich;X-APPLE-RADIUS=100;X-TITLE=Landimpulse:geo:0,0
END:VEVENT
BEGIN:VTIMEZONE
TZID:Europe/Vienna
X-LIC-LOCATION:Europe/Vienna
BEGIN:STANDARD
DTSTART:20221030T020000
TZOFFSETFROM:+0200
TZOFFSETTO:+0100
TZNAME:CET
END:STANDARD
END:VTIMEZONE
END:VCALENDAR